BEGIN:VCALENDAR
VERSION:2.0
PRODID:-//GTC Law Group - ECPv6.11.0.1//NONSGML v1.0//EN
CALSCALE:GREGORIAN
METHOD:PUBLISH
X-ORIGINAL-URL:https://gtclawgroup.com
X-WR-CALDESC:Events for GTC Law Group
REFRESH-INTERVAL;VALUE=DURATION:PT1H
X-Robots-Tag:noindex
X-PUBLISHED-TTL:PT1H
BEGIN:VTIMEZONE
TZID:America/Halifax
BEGIN:DAYLIGHT
TZOFFSETFROM:-0400
TZOFFSETTO:-0300
TZNAME:ADT
DTSTART:20160313T060000
END:DAYLIGHT
BEGIN:STANDARD
TZOFFSETFROM:-0300
TZOFFSETTO:-0400
TZNAME:AST
DTSTART:20161106T050000
END:STANDARD
END:VTIMEZONE
BEGIN:VEVENT
DTSTART;TZID=America/Halifax:20160929T083000
DTEND;TZID=America/Halifax:20160929T123000
DTSTAMP:20260420T030926
CREATED:20160816T170546Z
LAST-MODIFIED:20170628T181748Z
UID:4271-1475137800-1475152200@gtclawgroup.com
SUMMARY:GTC Conference: A Toolkit for Data Privacy & Security
DESCRIPTION:GTC held  “A Toolkit for Data Privacy & Security” Conference on September 29th at the Downtown Harvard Club.  Practical steps were provided to enhance organization’s data privacy and security compliance program\, with guidance from well-respected experts in the field. Attendees were introduced to experienced consultants and vendors who can assist in these areas. \nYou have likely been inundated with alerts about the new EU-US Privacy Shield and its availability as of August 1\, 2016.  Companies certifying compliance with the Privacy Shield can benefit in bringing EU-origin information into the US\, but will increase their risk of enforcement actions if their US-centric policies do not meet EU standards.  GTC’s noted privacy expert David Bender\, whose summary of the privacy shield is available here\, explored the pros and cons in more detail at the Conference. \nOur agenda is included below. If you have any questions about the Conference\, please contact Sayoko Blodgett-Ford at GTC (sayoko@gtclawgroup.com). \nClick here to access the conference materials. To watch a 1-hour video with excerpts from the event for CLE credit\, click here. \nGTC Conference: A Toolkit for Data Privacy & Security \nThursday\, September 29\, 2016 \nHarvard Club – downtown Boston\, 1 Federal Street\, Boston MA 02110 \n8:30am – 12:30pm \nKick Off: Tom Hemnes\, Member\, GTC Law Group PC   \nIn-house Counsel Data/Privacy Compliance Program Tips from the Trenches (Panel) \nAlexis Goltra\, Chief Privacy Officer\, Oracle Corporation \nScott Semel\, EVP and GC\, Intralinks\, Inc. \nDanielle Sheer\, VP & GC\, Carbonite\, Inc. \nTom Hemnes\, Member\, GTC – moderator \nEU-US Privacy Shield and EU GDPR Tips \nDavid Bender\, Special Counsel\, Data Privacy\, GTC \nData Security\, Disputes & Cyberinsurance Strategies (Panel) \nRocco Grillo\, Executive Managing Director/Cyber Resilience Leader\, Stroz Friedberg \nMark P. Szpak\, Partner\, Ropes & Gray LLP \nJohn Paul Sutrich\, President\, ARI Risk Management Consultants \nPaul-Johan Jean\, CIPP/US\, GIAC/GLEG\, Co-Founder and Member\, GTC – co-moderator \nRick Olin\, CIPP/US\, Counsel\, GTC – co-moderator \nClosing & Toolkit: Sayoko Blodgett-Ford\, Member\, GTC \nMeet and Greet Session: with speakers plus additional experts \nCLE: Pending approval from the State Bar of California for 3 hours of General Credit. \nParking: 1 Federal or Post Office Square (one block away).
URL:https://gtclawgroup.com/event/gtc-conference-toolkit/
LOCATION:Harvard Club\, 1 Federal Street\, Boston\, MA\, 02215\, United States
CATEGORIES:Boston,Conference
END:VEVENT
END:VCALENDAR