BEGIN:VCALENDAR
VERSION:2.0
PRODID:-//GTC Law Group - ECPv6.11.0.1//NONSGML v1.0//EN
CALSCALE:GREGORIAN
METHOD:PUBLISH
X-ORIGINAL-URL:https://gtclawgroup.com
X-WR-CALDESC:Events for GTC Law Group
REFRESH-INTERVAL;VALUE=DURATION:PT1H
X-Robots-Tag:noindex
X-PUBLISHED-TTL:PT1H
BEGIN:VTIMEZONE
TZID:America/New_York
BEGIN:DAYLIGHT
TZOFFSETFROM:-0500
TZOFFSETTO:-0400
TZNAME:EDT
DTSTART:20190310T070000
END:DAYLIGHT
BEGIN:STANDARD
TZOFFSETFROM:-0400
TZOFFSETTO:-0500
TZNAME:EST
DTSTART:20191103T060000
END:STANDARD
END:VTIMEZONE
BEGIN:VTIMEZONE
TZID:UTC
BEGIN:STANDARD
TZOFFSETFROM:+0000
TZOFFSETTO:+0000
TZNAME:UTC
DTSTART:20170101T000000
END:STANDARD
END:VTIMEZONE
BEGIN:VTIMEZONE
TZID:America/New_York
BEGIN:DAYLIGHT
TZOFFSETFROM:-0500
TZOFFSETTO:-0400
TZNAME:EDT
DTSTART:20170312T070000
END:DAYLIGHT
BEGIN:STANDARD
TZOFFSETFROM:-0400
TZOFFSETTO:-0500
TZNAME:EST
DTSTART:20171105T060000
END:STANDARD
END:VTIMEZONE
BEGIN:VTIMEZONE
TZID:America/Halifax
BEGIN:DAYLIGHT
TZOFFSETFROM:-0400
TZOFFSETTO:-0300
TZNAME:ADT
DTSTART:20160313T060000
END:DAYLIGHT
BEGIN:STANDARD
TZOFFSETFROM:-0300
TZOFFSETTO:-0400
TZNAME:AST
DTSTART:20161106T050000
END:STANDARD
END:VTIMEZONE
BEGIN:VEVENT
DTSTART;TZID=America/New_York:20191001T080000
DTEND;TZID=America/New_York:20191001T170000
DTSTAMP:20260420T012714
CREATED:20191001T142745Z
LAST-MODIFIED:20191001T142833Z
UID:5450-1569916800-1569949200@gtclawgroup.com
SUMMARY:GTC Law Group & Affiliates’ Tony Decicco\, Shareholder\, & Leon Schwartz\, Associate\, presented at Black Duck Flight 2019 on September 19\, 2019
DESCRIPTION:GTC Law Group & Affiliates’ Tony Decicco\, Shareholder\, & Leon Schwartz\, Associate\, presented at Black Duck Flight 2019 on September 19\, 2019. The presentation\, titled “So You’ve Got Your Open Source Audit Report\, Now What?”\, covered:\n• How to effectively identify and manage compliance and security risks associated with open source software\n• Next steps once you have composition of the code
URL:https://gtclawgroup.com/event/gtc-law-group-affiliates-tony-decicco-shareholder-leon-schwartz-associate-presented-at-black-duck-flight-2019-on-september-19-2019/
CATEGORIES:Boston,Conference
END:VEVENT
BEGIN:VEVENT
DTSTART;TZID=America/New_York:20191001T080000
DTEND;TZID=America/New_York:20191001T170000
DTSTAMP:20260420T012714
CREATED:20191001T142713Z
LAST-MODIFIED:20191001T142901Z
UID:5448-1569916800-1569949200@gtclawgroup.com
SUMMARY:GTC Law Group & Affiliates’ Tony Decicco\, Shareholder\, & Leon Schwartz\, Associate\, presented at Black Duck Flight 2019
DESCRIPTION:GTC Law Group & Affiliates’ Tony Decicco\, Shareholder\, & Leon Schwartz\, Associate\, presented at Black Duck Flight 2019 on September 18\, 2019. The presentation\, titled “Stump the Lawyers: Q&A/Discussion of Open Source Licenses for Developers”\, covered:\n• How to decode the legalese and details on open source licensing\n• Opportunity to share ideas\, best practices and key success factors as it relates to open source licenses
URL:https://gtclawgroup.com/event/gtc-law-group-affiliates-tony-decicco-shareholder-leon-schwartz-associate-presented-at-black-duck-flight-2019/
CATEGORIES:Boston,Conference
END:VEVENT
BEGIN:VEVENT
DTSTART;TZID=America/New_York:20190816T080000
DTEND;TZID=America/New_York:20190816T170000
DTSTAMP:20260420T012714
CREATED:20190816T222202Z
LAST-MODIFIED:20190816T222202Z
UID:5440-1565942400-1565974800@gtclawgroup.com
SUMMARY:GTC Law Group & Affiliates’ Tony Decicco Presented a Webinar with Black Duck
DESCRIPTION:GTC Law Group & Affiliates’ Tony Decicco\, Shareholder\, presented a webinar with Black Duck Software on August 15\, 2019. The webinar\, titled “What You Need to Know About Source Licensing\,” offered practical advice to help to mitigate risk associated with open source and highlighted:\n• The history and risk of open source software\n• Intellectual property law for software licensing\n• The most popular licenses and their obligations
URL:https://gtclawgroup.com/event/gtc-law-group-affiliates-tony-decicco-presented-a-webinar-with-black-duck-2/
CATEGORIES:Boston,Conference
END:VEVENT
BEGIN:VEVENT
DTSTART;TZID=America/New_York:20190614T080000
DTEND;TZID=America/New_York:20190614T170000
DTSTAMP:20260420T012714
CREATED:20190614T183404Z
LAST-MODIFIED:20190614T210811Z
UID:5341-1560499200-1560531600@gtclawgroup.com
SUMMARY:Mergers and Acquisitions – Privacy & Security Updates 2019
DESCRIPTION:Content is protected.
URL:https://gtclawgroup.com/event/mergers-and-acquisitions-privacy-security-updates-2019/
CATEGORIES:Boston,Conference
END:VEVENT
BEGIN:VEVENT
DTSTART;TZID=UTC:20190208T080000
DTEND;TZID=UTC:20190208T170000
DTSTAMP:20260420T012714
CREATED:20190209T030244Z
LAST-MODIFIED:20190209T030244Z
UID:5310-1549612800-1549645200@gtclawgroup.com
SUMMARY:GTC Law Group & Affiliates’ Tony Decicco Presented a Webinar with Black Duck
DESCRIPTION:GTC Law Group & Affiliates’ Tony Decicco\, Shareholder\, presented a webinar with Black Duck Software on February 6\, 2019. The webinar\, titled “The 2018 Open Source Year in Review\,” highlighted the most significant legal developments related to open source software in 2018\, including:\n• Big open source transactions\n• Business model problems and the proposed solutions\n• The need to extend the scope of an audit to cover web services/APIs\n• The changing tide in open source license adoption
URL:https://gtclawgroup.com/event/gtc-law-group-affiliates-tony-decicco-presented-a-webinar-with-black-duck/
END:VEVENT
BEGIN:VEVENT
DTSTART;TZID=UTC:20190207T080000
DTEND;TZID=UTC:20190207T170000
DTSTAMP:20260420T012714
CREATED:20190207T212241Z
LAST-MODIFIED:20190207T212241Z
UID:5307-1549526400-1549558800@gtclawgroup.com
SUMMARY:GTC Law Group Hosted a TechGC Event on January 24\, 2019
DESCRIPTION:GTC Law Group’s Anthony Decicco and Leon Schwartz present at a firm-hosted TechGC event on January 24\, 2019 in Boston. \nTony and Leon shared expertise on the impact open source software may have on transactions (such as M&A events\, large customer contracts and IPOs) for venture backed startups\, and address myths regarding the use of open source software by SaaS companies. The presentation featured a lively discussion of the competing views of buyers and sellers and provided GCs with actionable insights they can use to pave the way for a smooth exit. \nEarlier in the day\, GTC shareholders Rick Olin\, Lisa Trainor and Anthony Decicco hosted TechGCx’s Boston lunch event for senior in-house counsel at local technology companies.
URL:https://gtclawgroup.com/event/gtc-law-group-hosted-a-techgc-event-on-january-24-2019/
CATEGORIES:Boston,Conference
END:VEVENT
BEGIN:VEVENT
DTSTART;TZID=UTC:20180516T080000
DTEND;TZID=UTC:20180516T170000
DTSTAMP:20260420T012714
CREATED:20180516T183104Z
LAST-MODIFIED:20180516T183104Z
UID:5191-1526457600-1526490000@gtclawgroup.com
SUMMARY:GTC Law Group's Tony Decicco presented a webinar with Black Duck Software\, titled "Introduction to Open Source Software & Licensing"
DESCRIPTION:GTC Law Group’s Tony Decicco presented a webinar with Black Duck Software on May 9\, 2018.  The webinar\, titled “Introduction to Open Source Software & Licensing\,” covered: \n\nBrief history and definition of open source\nThe most popular open source licenses and their obligations\nCompliance best practices
URL:https://gtclawgroup.com/event/gtc-law-groups-tony-decicco-presented-a-webinar-with-black-duck-software-titled-introduction-to-open-source-software-licensing/
CATEGORIES:Conference
END:VEVENT
BEGIN:VEVENT
DTSTART;TZID=UTC:20180418T080000
DTEND;TZID=UTC:20180418T170000
DTSTAMP:20260420T012714
CREATED:20180418T222951Z
LAST-MODIFIED:20180418T222951Z
UID:5169-1524038400-1524070800@gtclawgroup.com
SUMMARY:GTC Member and Chief Privacy Officer Sayoko Blodgett-Ford to co-chair Privacy & Cybersecurity event on May 21st.
DESCRIPTION:GTC Member and Chief Privacy Officer Sayoko Blodgett-Ford to co-chair Privacy & Cybersecurity conference on May 21st with chair Peter Lefkowitz\, Chief Digital Risk Officer of Citrix. The event is offered through the Boston Bar Association.\n\nPanel sessions will cover a wide range of topics including: \n\nGDPR & Global Privacy Developments\nIncident Response Planning\nAdvertising and Marketing Privacy Compliance\nFinancial Services and Cryptocurrency\nLaw Enforcement & Regulatory Trends\n\nFor additional information\, please see the BBA conference website.
URL:https://gtclawgroup.com/event/gtc-member-and-chief-privacy-officer-sayoko-blodgett-ford-to-co-chair-privacy-cybersecurity-event-on-may-21st/
CATEGORIES:Boston,Conference
END:VEVENT
BEGIN:VEVENT
DTSTART;TZID=UTC:20180417T000000
DTEND;TZID=UTC:20180417T000000
DTSTAMP:20260420T012714
CREATED:20180418T002917Z
LAST-MODIFIED:20180418T002917Z
UID:5153-1523923200-1523923200@gtclawgroup.com
SUMMARY:GTC to Participate in BC Law Program on Innovation and Entrepreneurship
DESCRIPTION:GTC to Participate in BC Law Program on Innovation and Entrepreneurship April 2018 Event \nCome hear innovators in mobile apps discuss their entrepreneurial projects and the legal issues that arise along the way. This event is free and open to the public. Lunch will be served. \nPanelists include: \n\nElliot Schrock – Founder/Lead Developer at Thryv\, Inc. (entrepreneurship in mobile app dev)\nWilliam Palin – Access to Justice/Technology Fellow\, Harvard Law School (building mobile app tools to increase access to justice)\nCharity Everett – Augmented Reality Artist and Storyteller\, Go Back Fetch It (use of augmented reality for storytelling using mobile devices)\n\nModerator:  Sayoko Blodgett-Ford\, Adjunct Professor (Mobile App Development – Legal Contributions – Spring 2018)\, GTC Member \nEvent Details: \nTuesday\, Apr 17\, 2018 \n12:00 PM – 1:00 PM EDT \nBC Law School\, 885 Centre St.\, Newton\, MA 02459. Room: East Wing 115B \nSign in or register to RSVP to this event
URL:https://gtclawgroup.com/event/gtc-to-participate-in-bc-law-program-on-innovation-and-entrepreneurship/
END:VEVENT
BEGIN:VEVENT
DTSTART;TZID=UTC:20171103T080000
DTEND;TZID=UTC:20171103T170000
DTSTAMP:20260420T012714
CREATED:20170923T002410Z
LAST-MODIFIED:20171106T195634Z
UID:5018-1509696000-1509728400@gtclawgroup.com
SUMMARY:GTC Data Privacy & Security Training at Juniper Friday 11/3 9am to 12:30pm (Sunnyvale California)
DESCRIPTION:GTC recently held its latest data privacy training event on November 3\, 2017 from 9am to 12:30pm Pacific. \nMany thanks Juniper Networks who very generously hosted this conference at their headquarters in Sunnyvale\, California. \nTopics and speakers included the following\, and relevant aspects of the EU General Data Protection Regulation (“GDPR”) were addressed. \nMergers & Acquisitions – Data Privacy & Security (Panel #1)\nJon Adams\, Senior Privacy Counsel\, LinkedIn\nRocco Grillo\, Executive Managing Director\, Cyber Resilience Leader\, Stroz Friedberg/Aon\nSayoko Blodgett-Ford\, Member & Chief Privacy Officer\, GTC Law Group \nBeyond the Basics:  Recent Developments in Global Data Privacy & Security\nDavid Bender\, Special Counsel\, Data Privacy\, GTC Law Group and Fellow\, Ponemon Institute \nVendor Risk Management – Data Privacy & Security (Panel #2)\nSherry Ryan\, CISO\, Juniper\nTanya O’Connor\, Director\, Information Security\, Arcadia Healthcare Solutions\nGary Roboff\, Senior Advisor\, Santa Fe Group – Shared Assessments\nRick Olin\, Shareholder\, CIPP/US\, GTC Law Group \nMaterials and slide decks from this event are available here. \nIf you have any questions about this event or would like to learn more about future GTC events\, please email gtclawgroup@gtclawgroup.com. \nWe look forward to hearing from you!   — GTC Data Privacy & Security Group https://gtclawgroup.com/team/ \nThis material is provided for your convenience and does not constitute legal advice or create an attorney-client relationship.  Prior results do not guarantee similar outcomes. Attorney Advertising.  To unsubscribe from advertising and marketing materials from GTC Law Group PC & Affiliates\, email gtclawgroup@gtclawgroup.com and include “UNSUBSCRIBE” in the subject line.
URL:https://gtclawgroup.com/event/gtc-data-privacy-security-training-at-juniper-friday-113-9am-to-1230pm-sunnyvale-california/
CATEGORIES:Conference
END:VEVENT
BEGIN:VEVENT
DTSTART;TZID=UTC:20170915T080000
DTEND;TZID=UTC:20170915T170000
DTSTAMP:20260420T012714
CREATED:20170915T185259Z
LAST-MODIFIED:20170915T185259Z
UID:5012-1505462400-1505494800@gtclawgroup.com
SUMMARY:GTC UPDATE:  The right to privacy is now a fundamental human right in India
DESCRIPTION:GTC UPDATE:  The right to privacy is now a fundamental human right in India \nIndia’s Supreme Court has unanimously ruled that the right to privacy is a fundamental right because it is “an intrinsic part of right to life.”  The landmark 547-page judgment overrules two prior India Supreme Court decisions from 1954 and 1962.  The case involves challenges to India’s biometric-based identification number system (the “Adhaar scheme”)\, which was purportedly designed to increase social inclusion and improve the accessibility of government services.  The system is mandatory for certain government services\, which raised privacy concerns.  The Adhaar scheme will now be further reviewed\, and the decision may have broader impacts as well\, beyond the particular facts in the case.    \nIf you have any questions\, please call or email your existing contact at GTC Law Group or gtclawgroup@gtclawgroup.com.  \nPrepared by Mirjam Supponen (CIPP/E & CIPP/US) under the supervision of GTC Member Sayoko Blodgett-Ford (CIPP/US).  Mirjam is admitted to practice in Texas.  Sayoko is admitted to practice in Massachusetts\, the District of Columbia\, Hawaii and the U.S. Patent & Trademark Office.  This Update discusses certain legal and related developments and should not be relied upon as legal advice\, or as legal guidance for particular circumstances. Readers are cautioned against making any decisions based on this material alone.
URL:https://gtclawgroup.com/event/gtc-update-the-right-to-privacy-is-now-a-fundamental-human-right-in-india/
END:VEVENT
BEGIN:VEVENT
DTSTART;TZID=America/New_York:20170406T084500
DTEND;TZID=America/New_York:20170406T120000
DTSTAMP:20260420T012714
CREATED:20161202T012323Z
LAST-MODIFIED:20170505T005624Z
UID:4681-1491468300-1491480000@gtclawgroup.com
SUMMARY:GTC Event: European Data Privacy Compliance (April 2017)
DESCRIPTION:GTC’s series on data privacy and security was continued with an event focusing on European Data Privacy Compliance. \nEuropean Data Privacy Compliance – Thursday April 6\, 2017 8:45am – noon at the downtown Harvard Club. \nDavid Bender\, Fellow\, Ponemon Institute; Special Counsel\, Data Privacy\, GTC Law Group PC \nRenard Francois\, Global Chief Privacy Officer\, General Electric \nKatherine Fick\, Privacy Counsel\, IBM Corp. \nElaine Call\, CIPP/US\, CIPM\, CIPT; Technology & Privacy Counsel\, Cengage Learning \nSara Cable\, CIPP/US; Director\, Data Privacy & Security\, Assistant Attorney General\, Consumer Protection Division\, Office of Attorney General Maura Healey\, Commonwealth of Massachusetts \nSayoko Blodgett-Ford\, CIPP/US\, Member; Chief Privacy Officer\, GTC Law Group PC \nThomas Hemnes\, Member\, GTC Law Group \nWe will provide practical guidance on the General Data Protection Regulation (“GDPR”) requirements\, which will carry the most severe potential penalties we have ever seen in the data privacy area.  Certain penalties could potentially be the greater of €20M or 4% of annual worldwide revenues.  Although GDPR does not kick in until 2018\, early compliance preparations are essential due to the scope and nature of the requirements. \nWe cordially invite you to attend.  Space is limited\, so if you would like to attend please RSVP to gtc@gtclawgroup.com as soon as possible.  There is of course no charge for attendance. \nWe intend to apply for CLE credits in CA (NY CLE generally is available via reciprocity). \nIf you have any questions\, please contact Sayoko Blodgett-Ford at GTC (425-681-3795 – sayoko@gtclawgroup.com) \nWe look forward to hearing from you!   — GTC Data Privacy & Security Group \nMaterials from the conference are available here.
URL:https://gtclawgroup.com/event/upcoming-gtc-event-european-data-privacy-compliance-april-2017/
LOCATION:Harvard Club – Downtown\, 1 Federal Street\, Boston\, MA\, 02110\, United States
CATEGORIES:Conference
END:VEVENT
BEGIN:VEVENT
DTSTART;TZID=America/New_York:20170112T084500
DTEND;TZID=America/New_York:20170112T120000
DTSTAMP:20260420T012714
CREATED:20161116T020809Z
LAST-MODIFIED:20170814T195115Z
UID:4658-1484210700-1484222400@gtclawgroup.com
SUMMARY:GTC Event: Data Breach Simulation Training (January 2017)
DESCRIPTION:GTC’s series on data privacy and security will continue with the following event in 2017: \nData Breach Simulation Exercise – Thursday January 12\, 2017 8:45am – noon at the downtown Harvard Club (Boston). \nRocco Grillo\, Executive Managing Director/Cyber Resilience Leader\, Stroz Friedberg/Aon \nPeter Lefkowitz\, Chief Privacy Officer and Senior Digital Rights Management Counsel\, GE Digital \nPatrick Ford\, Chief Information Security Officer\, Americas Region\, Schneider Electric \nSayoko Blodgett-Ford\, CIPP/US\, Member\, GTC Law Group PC \nAdditional speakers and team facilitators to be confirmed. \nThis will be a lively interactive training.  Attendees will work in teams of 5-6 and we will go through a simulated data breach\, starting with an intentionally incomplete draft Incident Response Plan that we will improve as we work through the exercise. \n**Materials for the Data Breach Simulation Exercise are available here. \nWe are also pleased to announce our event focusing on European Data Privacy Compliance – Thursday April 6\, 2017 8:45am – noon at the downtown Harvard Club. \nDavid Bender\, Special Counsel\, Data Privacy\, GTC Law Group PC \nAdditional speakers to be confirmed. \nWe will provide practical guidance on the General Data Protection Regulation (“GDPR”) requirements\, which will carry the most severe potential penalties we have ever seen in the data privacy area.  Certain penalties could potentially be the greater of €20M or 4% of annual worldwide revenues.  Although GDPR does not kick in until 2018\, early compliance preparations are essential due to the scope and nature of the requirements. \nWe cordially invite you to attend both.  Space is limited\, so if you would like to attend please RSVP to gtc@gtclawgroup.com as soon as possible.  There is of course no charge for attendance. \nWe intend to apply for CLE credits in CA (NY CLE generally is available via reciprocity). \nIf you have any questions\, please contact Sayoko Blodgett-Ford at GTC (425-681-3795 – sayoko@gtclawgroup.com) \nWe look forward to hearing from you!   — GTC Data Privacy & Security Group
URL:https://gtclawgroup.com/event/data-privacy-upcoming-event/
LOCATION:Harvard Club – Downtown\, 1 Federal Street\, Boston\, MA\, 02110\, United States
CATEGORIES:Boston,Conference
END:VEVENT
BEGIN:VEVENT
DTSTART;TZID=America/Halifax:20160929T083000
DTEND;TZID=America/Halifax:20160929T123000
DTSTAMP:20260420T012714
CREATED:20160816T170546Z
LAST-MODIFIED:20170628T181748Z
UID:4271-1475137800-1475152200@gtclawgroup.com
SUMMARY:GTC Conference: A Toolkit for Data Privacy & Security
DESCRIPTION:GTC held  “A Toolkit for Data Privacy & Security” Conference on September 29th at the Downtown Harvard Club.  Practical steps were provided to enhance organization’s data privacy and security compliance program\, with guidance from well-respected experts in the field. Attendees were introduced to experienced consultants and vendors who can assist in these areas. \nYou have likely been inundated with alerts about the new EU-US Privacy Shield and its availability as of August 1\, 2016.  Companies certifying compliance with the Privacy Shield can benefit in bringing EU-origin information into the US\, but will increase their risk of enforcement actions if their US-centric policies do not meet EU standards.  GTC’s noted privacy expert David Bender\, whose summary of the privacy shield is available here\, explored the pros and cons in more detail at the Conference. \nOur agenda is included below. If you have any questions about the Conference\, please contact Sayoko Blodgett-Ford at GTC (sayoko@gtclawgroup.com). \nClick here to access the conference materials. To watch a 1-hour video with excerpts from the event for CLE credit\, click here. \nGTC Conference: A Toolkit for Data Privacy & Security \nThursday\, September 29\, 2016 \nHarvard Club – downtown Boston\, 1 Federal Street\, Boston MA 02110 \n8:30am – 12:30pm \nKick Off: Tom Hemnes\, Member\, GTC Law Group PC   \nIn-house Counsel Data/Privacy Compliance Program Tips from the Trenches (Panel) \nAlexis Goltra\, Chief Privacy Officer\, Oracle Corporation \nScott Semel\, EVP and GC\, Intralinks\, Inc. \nDanielle Sheer\, VP & GC\, Carbonite\, Inc. \nTom Hemnes\, Member\, GTC – moderator \nEU-US Privacy Shield and EU GDPR Tips \nDavid Bender\, Special Counsel\, Data Privacy\, GTC \nData Security\, Disputes & Cyberinsurance Strategies (Panel) \nRocco Grillo\, Executive Managing Director/Cyber Resilience Leader\, Stroz Friedberg \nMark P. Szpak\, Partner\, Ropes & Gray LLP \nJohn Paul Sutrich\, President\, ARI Risk Management Consultants \nPaul-Johan Jean\, CIPP/US\, GIAC/GLEG\, Co-Founder and Member\, GTC – co-moderator \nRick Olin\, CIPP/US\, Counsel\, GTC – co-moderator \nClosing & Toolkit: Sayoko Blodgett-Ford\, Member\, GTC \nMeet and Greet Session: with speakers plus additional experts \nCLE: Pending approval from the State Bar of California for 3 hours of General Credit. \nParking: 1 Federal or Post Office Square (one block away).
URL:https://gtclawgroup.com/event/gtc-conference-toolkit/
LOCATION:Harvard Club\, 1 Federal Street\, Boston\, MA\, 02215\, United States
CATEGORIES:Boston,Conference
END:VEVENT
END:VCALENDAR